BEGIN:VCALENDAR
VERSION:2.0
PRODID:SchoolNow
CALSCALE:GREGORIAN
BEGIN:VEVENT
UID:2daad718-4795-11f0-b5df-02579766d9f7
DTSTAMP:20260420T153508Z
SUMMARY:Perfect Attendance Quarter 4 - Casual Dress Day
URL;VALUE=URI:https://www.aristoiclassical.org/ac/calendar/8291897/perfect-
 attendance-quarter-4-casual-dress-day
DTSTART;VALUE=DATE:20260519
DTEND;VALUE=DATE:20260520
END:VEVENT
END:VCALENDAR
