BEGIN:VCALENDAR
VERSION:2.0
PRODID:SchoolNow
CALSCALE:GREGORIAN
BEGIN:VEVENT
UID:2daad560-4795-11f0-9ee8-02579766d9f7
DTSTAMP:20260420T153508Z
SUMMARY:No Dress Code Violations Quarter 3 - Casual Dress Day
URL;VALUE=URI:https://www.aristoiclassical.org/ac/calendar/8291895/no-dress
 -code-violations-quarter-3-casual-dress-day
DTSTART;VALUE=DATE:20260401
DTEND;VALUE=DATE:20260402
END:VEVENT
END:VCALENDAR
