BEGIN:VCALENDAR
VERSION:2.0
PRODID:SchoolNow
CALSCALE:GREGORIAN
BEGIN:VEVENT
UID:2daad484-4795-11f0-b55d-02579766d9f7
DTSTAMP:20260420T153508Z
SUMMARY:Perfect Attendance Quarter 3 - Casual Dress Day
URL;VALUE=URI:https://www.aristoiclassical.org/ac/calendar/8291894/perfect-
 attendance-quarter-3-casual-dress-day
DTSTART;VALUE=DATE:20260331
DTEND;VALUE=DATE:20260401
END:VEVENT
END:VCALENDAR
