BEGIN:VCALENDAR
VERSION:2.0
PRODID:SchoolNow
CALSCALE:GREGORIAN
BEGIN:VEVENT
UID:2daad1f0-4795-11f0-bb92-02579766d9f7
DTSTAMP:20260420T153508Z
SUMMARY:End of Year Class Parties (K-5)
URL;VALUE=URI:https://www.aristoiclassical.org/ac/calendar/8291891/end-of-y
 ear-class-parties-k-5
DTSTART;VALUE=DATE:20260522
DTEND;VALUE=DATE:20260523
END:VEVENT
END:VCALENDAR
