BEGIN:VCALENDAR
VERSION:2.0
PRODID:SchoolNow
CALSCALE:GREGORIAN
BEGIN:VEVENT
UID:2daad11e-4795-11f0-888f-02579766d9f7
DTSTAMP:20260420T153508Z
SUMMARY:Logic & Rhetoric School Awards Ceremony
URL;VALUE=URI:https://www.aristoiclassical.org/ac/calendar/8291890/logic-rh
 etoric-school-awards-ceremony
DTSTART:20260521T223000Z
DTEND:20260522T000000Z
END:VEVENT
END:VCALENDAR
