BEGIN:VCALENDAR
VERSION:2.0
PRODID:SchoolNow
CALSCALE:GREGORIAN
BEGIN:VEVENT
UID:2daad042-4795-11f0-99cf-02579766d9f7
DTSTAMP:20260420T153508Z
SUMMARY:Grammar School Awards Ceremony (1st - 4th)
URL;VALUE=URI:https://www.aristoiclassical.org/ac/calendar/8291889/grammar-
 school-awards-ceremony-1st-4th
DTSTART:20260519T223000Z
DTEND:20260520T000000Z
END:VEVENT
END:VCALENDAR
