BEGIN:VCALENDAR
VERSION:2.0
PRODID:SchoolNow
CALSCALE:GREGORIAN
BEGIN:VEVENT
UID:2daacf66-4795-11f0-9603-02579766d9f7
DTSTAMP:20260420T153508Z
SUMMARY:Kindergarten Hundred Acre Woods/Awards Ceremony
URL;VALUE=URI:https://www.aristoiclassical.org/ac/calendar/8291888/kinderga
 rten-hundred-acre-woods-awards-ceremony
DTSTART:20260522T133000Z
DTEND:20260522T160000Z
END:VEVENT
END:VCALENDAR
