BEGIN:VCALENDAR
VERSION:2.0
PRODID:SchoolNow
CALSCALE:GREGORIAN
BEGIN:VEVENT
UID:2daace94-4795-11f0-9948-02579766d9f7
DTSTAMP:20260420T153508Z
SUMMARY:1st Grade Tea Party
URL;VALUE=URI:https://www.aristoiclassical.org/ac/calendar/8291887/1st-grad
 e-tea-party
DTSTART;VALUE=DATE:20260512
DTEND;VALUE=DATE:20260513
END:VEVENT
END:VCALENDAR
