BEGIN:VCALENDAR
VERSION:2.0
PRODID:SchoolNow
CALSCALE:GREGORIAN
BEGIN:VEVENT
UID:2daacdb8-4795-11f0-9ec5-02579766d9f7
DTSTAMP:20260420T153508Z
SUMMARY:Athletic Recognition Night (Winter/Spring Sports)
LOCATION:TBD
URL;VALUE=URI:https://www.aristoiclassical.org/ac/calendar/8291886/athletic
 -recognition-night-winter-spring-sports
DTSTART:20260421T230000Z
DTEND:20260422T003000Z
END:VEVENT
END:VCALENDAR
