BEGIN:VCALENDAR
VERSION:2.0
PRODID:SchoolNow
CALSCALE:GREGORIAN
BEGIN:VEVENT
UID:2daacc14-4795-11f0-80e8-02579766d9f7
DTSTAMP:20260420T153508Z
SUMMARY:NJHS Induction Ceremony
LOCATION:TBD
URL;VALUE=URI:https://www.aristoiclassical.org/ac/calendar/8291884/njhs-ind
 uction-ceremony
DTSTART;VALUE=DATE:20260414
DTEND;VALUE=DATE:20260415
END:VEVENT
END:VCALENDAR
