BEGIN:VCALENDAR
VERSION:2.0
PRODID:SchoolNow
CALSCALE:GREGORIAN
BEGIN:VEVENT
UID:2daacb38-4795-11f0-8017-02579766d9f7
DTSTAMP:20260420T153508Z
SUMMARY:End of the Third Nine Weeks
URL;VALUE=URI:https://www.aristoiclassical.org/ac/calendar/8291883/end-of-t
 he-third-nine-weeks
DTSTART;VALUE=DATE:20260313
DTEND;VALUE=DATE:20260314
END:VEVENT
END:VCALENDAR
