BEGIN:VCALENDAR
VERSION:2.0
PRODID:SchoolNow
CALSCALE:GREGORIAN
BEGIN:VEVENT
UID:2daaca5c-4795-11f0-9b26-02579766d9f7
DTSTAMP:20260420T153508Z
SUMMARY:Dr. Seuss Day
URL;VALUE=URI:https://www.aristoiclassical.org/ac/calendar/8291882/dr-seuss
 -day
DTSTART;VALUE=DATE:20260302
DTEND;VALUE=DATE:20260303
END:VEVENT
END:VCALENDAR
