BEGIN:VCALENDAR
VERSION:2.0
PRODID:SchoolNow
CALSCALE:GREGORIAN
BEGIN:VEVENT
UID:2daac98a-4795-11f0-959c-02579766d9f7
DTSTAMP:20260420T153508Z
SUMMARY:World Heritage Day
URL;VALUE=URI:https://www.aristoiclassical.org/ac/calendar/8291881/world-he
 ritage-day
DTSTART;VALUE=DATE:20260225
DTEND;VALUE=DATE:20260226
END:VEVENT
END:VCALENDAR
