BEGIN:VCALENDAR
VERSION:2.0
PRODID:SchoolNow
CALSCALE:GREGORIAN
BEGIN:VEVENT
UID:2daac7c8-4795-11f0-99b1-02579766d9f7
DTSTAMP:20260421T154008Z
SUMMARY:Perfect Attendance Quarter 2 - Casual Dress Day
URL;VALUE=URI:https://www.aristoiclassical.org/ac/calendar/8291879/perfect-
 attendance-quarter-2-casual-dress-day
DTSTART;VALUE=DATE:20260113
DTEND;VALUE=DATE:20260114
END:VEVENT
END:VCALENDAR
