BEGIN:VCALENDAR
VERSION:2.0
PRODID:SchoolNow
CALSCALE:GREGORIAN
BEGIN:VEVENT
UID:2daabbd4-4795-11f0-999e-02579766d9f7
DTSTAMP:20260420T153508Z
SUMMARY:NO FUNDRAISING
URL;VALUE=URI:https://www.aristoiclassical.org/ac/calendar/8291865/no-fundr
 aising
DTSTART;VALUE=DATE:20260301
DTEND;VALUE=DATE:20260419
END:VEVENT
END:VCALENDAR
