BEGIN:VCALENDAR
VERSION:2.0
PRODID:SchoolNow
CALSCALE:GREGORIAN
BEGIN:VEVENT
UID:2daaba1c-4795-11f0-9594-02579766d9f7
DTSTAMP:20260420T153508Z
SUMMARY:Coffee with Headmaster\, Mark Pertuso
LOCATION:Aristoi Cypress Foyer
URL;VALUE=URI:https://www.aristoiclassical.org/ac/calendar/8291863/coffee-w
 ith-headmaster-mark-pertuso
DTSTART:20260424T133000Z
DTEND:20260424T141500Z
END:VEVENT
END:VCALENDAR
