BEGIN:VCALENDAR
VERSION:2.0
PRODID:SchoolNow
CALSCALE:GREGORIAN
BEGIN:VEVENT
UID:2daab86e-4795-11f0-b801-02579766d9f7
DTSTAMP:20260421T154008Z
SUMMARY:Coffee with Headmaster\, Mark Pertuso
LOCATION:Aristoi Cypress Foyer
URL;VALUE=URI:https://www.aristoiclassical.org/ac/calendar/8291861/coffee-w
 ith-headmaster-mark-pertuso
DTSTART:20260123T143000Z
DTEND:20260123T151500Z
END:VEVENT
END:VCALENDAR
