BEGIN:VCALENDAR
VERSION:2.0
PRODID:SchoolNow
CALSCALE:GREGORIAN
BEGIN:VEVENT
UID:2daab4f4-4795-11f0-bba1-02579766d9f7
DTSTAMP:20260420T153508Z
SUMMARY:Spring Choir Recital/Fine Arts Night
LOCATION:Aristoi Cypress Campus
URL;VALUE=URI:https://www.aristoiclassical.org/ac/calendar/8291857/spring-c
 hoir-recital-fine-arts-night
DTSTART;VALUE=DATE:20260508
DTEND;VALUE=DATE:20260509
END:VEVENT
END:VCALENDAR
