BEGIN:VCALENDAR
VERSION:2.0
PRODID:SchoolNow
CALSCALE:GREGORIAN
BEGIN:VEVENT
UID:2daab40e-4795-11f0-8900-02579766d9f7
DTSTAMP:20260420T153508Z
SUMMARY:Grammar School Field Day
LOCATION:YMCA @ 249
URL;VALUE=URI:https://www.aristoiclassical.org/ac/calendar/8291856/grammar-
 school-field-day
DTSTART;VALUE=DATE:20260306
DTEND;VALUE=DATE:20260307
END:VEVENT
END:VCALENDAR
