BEGIN:VCALENDAR
VERSION:2.0
PRODID:SchoolNow
CALSCALE:GREGORIAN
BEGIN:VEVENT
UID:2daaabee-4795-11f0-9de9-02579766d9f7
DTSTAMP:20260420T153508Z
SUMMARY:STAAR Interims RLA & English I/II (3rd - 10th Grade)
URL;VALUE=URI:https://www.aristoiclassical.org/ac/calendar/8291847/staar-in
 terims-rla-english-i-ii-3rd-10th-grade
DTSTART;VALUE=DATE:20260203
DTEND;VALUE=DATE:20260207
END:VEVENT
END:VCALENDAR
