BEGIN:VCALENDAR
VERSION:2.0
PRODID:SchoolNow
CALSCALE:GREGORIAN
BEGIN:VEVENT
UID:2daaab12-4795-11f0-833c-02579766d9f7
DTSTAMP:20260421T154008Z
SUMMARY:Winter Break / School Holiday - All Campuses
URL;VALUE=URI:https://www.aristoiclassical.org/ac/calendar/8291846/winter-b
 reak-school-holiday-all-campuses
DTSTART;VALUE=DATE:20251222
DTEND;VALUE=DATE:20260107
END:VEVENT
END:VCALENDAR
