BEGIN:VCALENDAR
VERSION:2.0
PRODID:SchoolNow
CALSCALE:GREGORIAN
BEGIN:VEVENT
UID:2daaa95a-4795-11f0-8f5b-02579766d9f7
DTSTAMP:20260420T153508Z
SUMMARY:EOY TXKEA (Kindergarten)
URL;VALUE=URI:https://www.aristoiclassical.org/ac/calendar/8291844/eoy-txke
 a-kindergarten
DTSTART;VALUE=DATE:20260407
DTEND;VALUE=DATE:20260418
END:VEVENT
END:VCALENDAR
