BEGIN:VCALENDAR
VERSION:2.0
PRODID:SchoolNow
CALSCALE:GREGORIAN
BEGIN:VEVENT
UID:2daaa87e-4795-11f0-b487-02579766d9f7
DTSTAMP:20260420T153508Z
SUMMARY:Go Texan Day!
URL;VALUE=URI:https://www.aristoiclassical.org/ac/calendar/8291843/go-texan
 -day
DTSTART;VALUE=DATE:20260227
DTEND;VALUE=DATE:20260228
END:VEVENT
END:VCALENDAR
