BEGIN:VCALENDAR
VERSION:2.0
PRODID:SchoolNow
CALSCALE:GREGORIAN
BEGIN:VEVENT
UID:2daaa7a2-4795-11f0-892f-02579766d9f7
DTSTAMP:20260421T154008Z
SUMMARY:MOY TXKEA (Kindergarten)
URL;VALUE=URI:https://www.aristoiclassical.org/ac/calendar/8291842/moy-txke
 a-kindergarten
DTSTART;VALUE=DATE:20260126
DTEND;VALUE=DATE:20260131
END:VEVENT
END:VCALENDAR
