BEGIN:VCALENDAR
VERSION:2.0
PRODID:SchoolNow
CALSCALE:GREGORIAN
BEGIN:VEVENT
UID:2daaa090-4795-11f0-b4b5-02579766d9f7
DTSTAMP:20260421T154008Z
SUMMARY:PTO Yahoo Breakfast
LOCATION:Chick-fil-A @ 249 & Jones
URL;VALUE=URI:https://www.aristoiclassical.org/ac/calendar/8291834/pto-yaho
 o-breakfast
DTSTART;VALUE=DATE:20260812
DTEND;VALUE=DATE:20260813
END:VEVENT
END:VCALENDAR
