BEGIN:VCALENDAR
VERSION:2.0
PRODID:SchoolNow
CALSCALE:GREGORIAN
BEGIN:VEVENT
UID:2daa9faa-4795-11f0-9471-02579766d9f7
DTSTAMP:20260420T153508Z
SUMMARY:Juneteenth - Staff Holiday - All Campuses
URL;VALUE=URI:https://www.aristoiclassical.org/ac/calendar/8291833/juneteen
 th-staff-holiday-all-campuses
DTSTART;VALUE=DATE:20260619
DTEND;VALUE=DATE:20260620
END:VEVENT
END:VCALENDAR
