BEGIN:VCALENDAR
VERSION:2.0
PRODID:SchoolNow
CALSCALE:GREGORIAN
BEGIN:VEVENT
UID:2daa9e9c-4795-11f0-a801-02579766d9f7
DTSTAMP:20260420T153508Z
SUMMARY:STAAR (English I/II\, Algebra I\, Biology\, & US History) (9th - 11
 th Grade)
URL;VALUE=URI:https://www.aristoiclassical.org/ac/calendar/8291832/staar-en
 glish-i-ii-algebra-i-biology-us-history-9th-11th-grade
DTSTART;VALUE=DATE:20260616
DTEND;VALUE=DATE:20260620
END:VEVENT
END:VCALENDAR
