BEGIN:VCALENDAR
VERSION:2.0
PRODID:SchoolNow
CALSCALE:GREGORIAN
BEGIN:VEVENT
UID:2daa9dac-4795-11f0-b097-02579766d9f7
DTSTAMP:20260420T153508Z
SUMMARY:Educator Work Day - All Campuses
URL;VALUE=URI:https://www.aristoiclassical.org/ac/calendar/8291831/educator
 -work-day-all-campuses
DTSTART;VALUE=DATE:20260526
DTEND;VALUE=DATE:20260527
END:VEVENT
END:VCALENDAR
