BEGIN:VCALENDAR
VERSION:2.0
PRODID:SchoolNow
CALSCALE:GREGORIAN
BEGIN:VEVENT
UID:2daa9cc6-4795-11f0-ae1c-02579766d9f7
DTSTAMP:20260420T153508Z
SUMMARY:Memorial Day - School Holiday - All Campuses
URL;VALUE=URI:https://www.aristoiclassical.org/ac/calendar/8291830/memorial
 -day-school-holiday-all-campuses
DTSTART;VALUE=DATE:20260525
DTEND;VALUE=DATE:20260526
END:VEVENT
END:VCALENDAR
