BEGIN:VCALENDAR
VERSION:2.0
PRODID:SchoolNow
CALSCALE:GREGORIAN
BEGIN:VEVENT
UID:2daa9bea-4795-11f0-bf99-02579766d9f7
DTSTAMP:20260420T153508Z
SUMMARY:End of the Fourth Nine Weeks
URL;VALUE=URI:https://www.aristoiclassical.org/ac/calendar/8291829/end-of-t
 he-fourth-nine-weeks
DTSTART;VALUE=DATE:20260522
DTEND;VALUE=DATE:20260523
END:VEVENT
END:VCALENDAR
