BEGIN:VCALENDAR
VERSION:2.0
PRODID:SchoolNow
CALSCALE:GREGORIAN
BEGIN:VEVENT
UID:2daa9a3c-4795-11f0-8329-02579766d9f7
DTSTAMP:20260420T153508Z
SUMMARY:Early Dismissal - All Campuses
URL;VALUE=URI:https://www.aristoiclassical.org/ac/calendar/8291828/early-di
 smissal-all-campuses
DTSTART;VALUE=DATE:20260522
DTEND;VALUE=DATE:20260523
END:VEVENT
END:VCALENDAR
