BEGIN:VCALENDAR
VERSION:2.0
PRODID:SchoolNow
CALSCALE:GREGORIAN
BEGIN:VEVENT
UID:2daa9956-4795-11f0-b179-02579766d9f7
DTSTAMP:20260420T153508Z
SUMMARY:Last Day of School for Students - All Campuses
URL;VALUE=URI:https://www.aristoiclassical.org/ac/calendar/8291827/last-day
 -of-school-for-students-all-campuses
DTSTART;VALUE=DATE:20260522
DTEND;VALUE=DATE:20260523
END:VEVENT
END:VCALENDAR
