BEGIN:VCALENDAR
VERSION:2.0
PRODID:SchoolNow
CALSCALE:GREGORIAN
BEGIN:VEVENT
UID:2daa987a-4795-11f0-bb2a-02579766d9f7
DTSTAMP:20260420T153508Z
SUMMARY:Spring Semester Exams
URL;VALUE=URI:https://www.aristoiclassical.org/ac/calendar/8291826/spring-s
 emester-exams
DTSTART;VALUE=DATE:20260519
DTEND;VALUE=DATE:20260523
END:VEVENT
END:VCALENDAR
