BEGIN:VCALENDAR
VERSION:2.0
PRODID:SchoolNow
CALSCALE:GREGORIAN
BEGIN:VEVENT
UID:2daa979e-4795-11f0-b81e-02579766d9f7
DTSTAMP:20260420T153508Z
SUMMARY:EOY TPRI (2nd Grade)
URL;VALUE=URI:https://www.aristoiclassical.org/ac/calendar/8291825/eoy-tpri
 -2nd-grade
DTSTART;VALUE=DATE:20260504
DTEND;VALUE=DATE:20260509
END:VEVENT
END:VCALENDAR
