BEGIN:VCALENDAR
VERSION:2.0
PRODID:SchoolNow
CALSCALE:GREGORIAN
BEGIN:VEVENT
UID:2daa96cc-4795-11f0-a0ba-02579766d9f7
DTSTAMP:20260420T153508Z
SUMMARY:Teacher Appreciation Week
URL;VALUE=URI:https://www.aristoiclassical.org/ac/calendar/8291824/teacher-
 appreciation-week
DTSTART;VALUE=DATE:20260504
DTEND;VALUE=DATE:20260508
END:VEVENT
END:VCALENDAR
