BEGIN:VCALENDAR
VERSION:2.0
PRODID:SchoolNow
CALSCALE:GREGORIAN
BEGIN:VEVENT
UID:2daa95f0-4795-11f0-bd87-02579766d9f7
DTSTAMP:20260420T153508Z
SUMMARY:PTO School Supply Sale
URL;VALUE=URI:https://www.aristoiclassical.org/ac/calendar/8291823/pto-scho
 ol-supply-sale
DTSTART;VALUE=DATE:20260504
DTEND;VALUE=DATE:20260613
END:VEVENT
END:VCALENDAR
