BEGIN:VCALENDAR
VERSION:2.0
PRODID:SchoolNow
CALSCALE:GREGORIAN
BEGIN:VEVENT
UID:2daa9438-4795-11f0-817c-02579766d9f7
DTSTAMP:20260420T153508Z
SUMMARY:8th Grade Musical
LOCATION:TBD
URL;VALUE=URI:https://www.aristoiclassical.org/ac/calendar/8291821/8th-grad
 e-musical
DTSTART;VALUE=DATE:20260430
DTEND;VALUE=DATE:20260501
END:VEVENT
END:VCALENDAR
