BEGIN:VCALENDAR
VERSION:2.0
PRODID:SchoolNow
CALSCALE:GREGORIAN
BEGIN:VEVENT
UID:2daa90a0-4795-11f0-9af3-02579766d9f7
DTSTAMP:20260420T153508Z
SUMMARY:CLOSED CAMPUS: STAAR Testing
URL;VALUE=URI:https://www.aristoiclassical.org/ac/calendar/8291817/closed-c
 ampus-staar-testing
DTSTART;VALUE=DATE:20260414
DTEND;VALUE=DATE:20260418
END:VEVENT
END:VCALENDAR
