BEGIN:VCALENDAR
VERSION:2.0
PRODID:SchoolNow
CALSCALE:GREGORIAN
BEGIN:VEVENT
UID:2daa8fa6-4795-11f0-b2e6-02579766d9f7
DTSTAMP:20260420T153508Z
SUMMARY:STAAR Social Studies & US History (8th & 11th Grade)
URL;VALUE=URI:https://www.aristoiclassical.org/ac/calendar/8291816/staar-so
 cial-studies-us-history-8th-11th-grade
DTSTART;VALUE=DATE:20260414
DTEND;VALUE=DATE:20260418
END:VEVENT
END:VCALENDAR
