BEGIN:VCALENDAR
VERSION:2.0
PRODID:SchoolNow
CALSCALE:GREGORIAN
BEGIN:VEVENT
UID:2daa8ea2-4795-11f0-8e0c-02579766d9f7
DTSTAMP:20260420T153508Z
SUMMARY:STAAR Science & Biology (5th\, 8th\, & 9th Grade)
URL;VALUE=URI:https://www.aristoiclassical.org/ac/calendar/8291815/staar-sc
 ience-biology-5th-8th-9th-grade
DTSTART;VALUE=DATE:20260414
DTEND;VALUE=DATE:20260418
END:VEVENT
END:VCALENDAR
