BEGIN:VCALENDAR
VERSION:2.0
PRODID:SchoolNow
CALSCALE:GREGORIAN
BEGIN:VEVENT
UID:2daa8c5e-4795-11f0-bde1-02579766d9f7
DTSTAMP:20260420T153508Z
SUMMARY:STAAR RLA & English I/II (3rd - 10th Grade)
URL;VALUE=URI:https://www.aristoiclassical.org/ac/calendar/8291813/staar-rl
 a-english-i-ii-3rd-10th-grade
DTSTART;VALUE=DATE:20260407
DTEND;VALUE=DATE:20260411
END:VEVENT
END:VCALENDAR
