BEGIN:VCALENDAR
VERSION:2.0
PRODID:SchoolNow
CALSCALE:GREGORIAN
BEGIN:VEVENT
UID:2daa888a-4795-11f0-80c8-02579766d9f7
DTSTAMP:20260420T153508Z
SUMMARY:Easter Monday - School Holiday - All Campuses
URL;VALUE=URI:https://www.aristoiclassical.org/ac/calendar/8291812/easter-m
 onday-school-holiday-all-campuses
DTSTART;VALUE=DATE:20260406
DTEND;VALUE=DATE:20260407
END:VEVENT
END:VCALENDAR
