BEGIN:VCALENDAR
VERSION:2.0
PRODID:SchoolNow
CALSCALE:GREGORIAN
BEGIN:VEVENT
UID:2d64117a-4795-11f0-8681-02579766d9f7
DTSTAMP:20260420T153508Z
SUMMARY:Good Friday - School Holiday - All Campuses
URL;VALUE=URI:https://www.aristoiclassical.org/ac/calendar/8291811/good-fri
 day-school-holiday-all-campuses
DTSTART;VALUE=DATE:20260403
DTEND;VALUE=DATE:20260404
END:VEVENT
END:VCALENDAR
