BEGIN:VCALENDAR
VERSION:2.0
PRODID:SchoolNow
CALSCALE:GREGORIAN
BEGIN:VEVENT
UID:2d64109e-4795-11f0-9cf1-02579766d9f7
DTSTAMP:20260420T153508Z
SUMMARY:Early Dismissal - All Campuses
URL;VALUE=URI:https://www.aristoiclassical.org/ac/calendar/8291810/early-di
 smissal-all-campuses
DTSTART;VALUE=DATE:20260402
DTEND;VALUE=DATE:20260403
END:VEVENT
END:VCALENDAR
