BEGIN:VCALENDAR
VERSION:2.0
PRODID:SchoolNow
CALSCALE:GREGORIAN
BEGIN:VEVENT
UID:2d640ee6-4795-11f0-842f-02579766d9f7
DTSTAMP:20260420T153508Z
SUMMARY:Logic & Rhetoric Field Day (5th - 10th)
LOCATION:YMCA @ 249
URL;VALUE=URI:https://www.aristoiclassical.org/ac/calendar/8291808/logic-rh
 etoric-field-day-5th-10th
DTSTART;VALUE=DATE:20260327
DTEND;VALUE=DATE:20260328
END:VEVENT
END:VCALENDAR
