BEGIN:VCALENDAR
VERSION:2.0
PRODID:SchoolNow
CALSCALE:GREGORIAN
BEGIN:VEVENT
UID:2d640e0a-4795-11f0-8982-02579766d9f7
DTSTAMP:20260420T153508Z
SUMMARY:Homeroom Picture Day
URL;VALUE=URI:https://www.aristoiclassical.org/ac/calendar/8291807/homeroom
 -picture-day
DTSTART;VALUE=DATE:20260428
DTEND;VALUE=DATE:20260429
END:VEVENT
END:VCALENDAR
