BEGIN:VCALENDAR
VERSION:2.0
PRODID:SchoolNow
CALSCALE:GREGORIAN
BEGIN:VEVENT
UID:2d640d10-4795-11f0-8505-02579766d9f7
DTSTAMP:20260420T153508Z
SUMMARY:Tolkien/C.S. Lewis Day
URL;VALUE=URI:https://www.aristoiclassical.org/ac/calendar/8291806/tolkien-
 c-s-lewis-day
DTSTART;VALUE=DATE:20260325
DTEND;VALUE=DATE:20260326
END:VEVENT
END:VCALENDAR
