BEGIN:VCALENDAR
VERSION:2.0
PRODID:SchoolNow
CALSCALE:GREGORIAN
BEGIN:VEVENT
UID:2d640c0c-4795-11f0-851c-02579766d9f7
DTSTAMP:20260420T153508Z
SUMMARY:STAAR ALT 2 (KG - 12th Grade)
URL;VALUE=URI:https://www.aristoiclassical.org/ac/calendar/8291805/staar-al
 t-2-kg-12th-grade
DTSTART;VALUE=DATE:20260324
DTEND;VALUE=DATE:20260328
END:VEVENT
END:VCALENDAR
