BEGIN:VCALENDAR
VERSION:2.0
PRODID:SchoolNow
CALSCALE:GREGORIAN
BEGIN:VEVENT
UID:2d640b30-4795-11f0-a838-02579766d9f7
DTSTAMP:20260420T153508Z
SUMMARY:Beginning of the Fourth Nine Weeks
URL;VALUE=URI:https://www.aristoiclassical.org/ac/calendar/8291804/beginnin
 g-of-the-fourth-nine-weeks
DTSTART;VALUE=DATE:20260323
DTEND;VALUE=DATE:20260324
END:VEVENT
END:VCALENDAR
