BEGIN:VCALENDAR
VERSION:2.0
PRODID:SchoolNow
CALSCALE:GREGORIAN
BEGIN:VEVENT
UID:2d640a54-4795-11f0-a6c8-02579766d9f7
DTSTAMP:20260420T153508Z
SUMMARY:Spring Break - School Holiday - All Campuses
URL;VALUE=URI:https://www.aristoiclassical.org/ac/calendar/8291803/spring-b
 reak-school-holiday-all-campuses
DTSTART;VALUE=DATE:20260316
DTEND;VALUE=DATE:20260321
END:VEVENT
END:VCALENDAR
